BEGIN:VCALENDAR
VERSION:2.0
PRODID:Imitheme.com 
BEGIN:VEVENT
UID:20260423T1702051380698193
DTSTAMP;TZID=UTC:2026-04-23 17:02:05
DTSTART;TZID=America/Los_Angeles:20241015T000000
DTEND;TZID=America/Los_Angeles:20241015T000000
SUMMARY:Avant il n'avait Rien
LOCATION:Cinema Rex\, Fribourg
DESCRIPTION:Avant, il n’y avait rien – Un voyage à travers les histoires effacées Dans Avant, il n’y avait rien, le réalisateur Basel Ramsis déconstruit le récit colonial selon lequel la Palestine était une terre vide avant l\'occupation. À travers des témoignages personnels, des archives historiques et des images saisissantes, ce documentaire révèle la richesse du patrimoine palestinien, existant bien avant d’être nié, démantelé et effacé. Démystifie le mythe de \"Une terre sans peuple\" – La Palestine a toujours été vivante. Un combat contre l’effacement – Le cinéma comme acte de résistance face à la réécriture de l’histoire. Ce film est bien plus qu’un documentaire—c’est une reconquête de la vérité. Regardez-le, partagez-le, et refusez que l’histoire soit falsifiée. Avez-vous vu Avant, il n’y avait rien ? Partageons nos réflexions en commentaires ! #AvantIlNYAvaitRien #Palestine #LhistoireCompte #CinemaPourLaJustice #FreePalestine Avant, il n’y avait rien – Révéler une Histoire Effacée Dans Avant, il n’y avait rien, le réalisateur Yvann Yagchi explore la mémoire occultée de la Palestine, déconstruisant le récit colonial d’une terre prétendument vide avant l’occupation. À travers des témoignages poignants et des images saisissantes, ce documentaire redonne voix à un passé que l’on tente d’effacer. Détruit le mythe de \"Une terre sans peuple\" – La Palestine a toujours été riche de vie et d’histoire. Un acte de résistance – Le cinéma face à l’oubli et à la réécriture de l’histoire. Avez-vous vu Avant, il n’y avait rien ? Partagez votre ressenti en commentaire ! #AvantIlNYAvaitRien #YvannYagchi #Palestine #MémoireHistorique #CinemaEngagé #VisionsDuReel #lesamiesdepalestine #freepalestine
URL:https://cine4palestine.ch/eventer/avant-il-navait-rien/
END:VEVENT
END:VCALENDAR
