BEGIN:VCALENDAR
VERSION:2.0
PRODID:Imitheme.com 
BEGIN:VEVENT
UID:20260423T170042632518915
DTSTAMP;TZID=UTC:2026-04-23 17:00:42
DTSTART;TZID=America/Los_Angeles:20241115T000000
DTEND;TZID=America/Los_Angeles:20241115T000000
SUMMARY:Occupation 101
LOCATION:Cinema Rex\, Fribourg
DESCRIPTION: Occupation 101: Voices Of The Silenced Majority https://youtu.be/_LGogkbjpRw?si=K70YvtpsieA1K1lF
URL:https://cine4palestine.ch/eventer/occupation-101/
END:VEVENT
END:VCALENDAR
