BEGIN:VCALENDAR
VERSION:2.0
PRODID:Imitheme.com 
BEGIN:VEVENT
UID:20260423T170150495909772
DTSTAMP;TZID=UTC:2026-04-23 17:01:50
DTSTART;TZID=America/Los_Angeles:20250311T000000
DTEND;TZID=America/Los_Angeles:20250311T000000
SUMMARY:From Ground Zero
LOCATION:Cinema Rex\, Fribourg
DESCRIPTION:Projection du film : \"From Ground Zero\" – Filmer un génocide en direct 📍 Lieu : Cinema Rex, Fribourg 📅 Date : le mardi 11.03.2025 ⏰ Heure : 08h15 Réalisé par, - Aws Al-Banna - Ahmed Al-Danf - Basil Al-Maqousi \"From Ground Zero\" est un témoignage bouleversant qui capte en direct l’horreur d’un génocide. Ce film plonge au cœur de la vie des Palestiniens sous les bombes, humanisant les statistiques et révélant la puissance de l’art comme acte de résistance face au génocide en cours. 🔹 Un film puissant qui humanise les statistiques 📊 🔹 Une immersion dans la vie quotidienne des Palestiniens sous les bombes et face au génocide 🇵🇸 🔹 Un témoignage bouleversant sur la résilience et la force de l’art 🎨 📢 Ne manquez pas cette projection essentielle ! Places limitées Réservez votre Place Ici : Cinema Rex Fribourg https://www.youtube.com/watch?v=Qu1ynfL1g70 📢 Rejoignez notre club ciné 4 Palestine sur insta: @cine4palestine https://lesamiesdepalestine.ch/club-cine-fri-pal/ 📢 Ne manquez pas cette projection essentielle ! Places limitées Reserver votre Place Ici : Cinema Rex Fribourg
URL:https://cine4palestine.ch/eventer/from-ground-zero/
END:VEVENT
END:VCALENDAR
