BEGIN:VCALENDAR
VERSION:2.0
PRODID:Imitheme.com 
BEGIN:VEVENT
UID:20260423T194524530493504
DTSTAMP;TZID=UTC:2026-04-23 19:45:24
DTSTART;TZID=America/Los_Angeles:20251130T000000
DTEND;TZID=America/Los_Angeles:20251130T000000
SUMMARY:La voix de Hind Rajab
LOCATION:Cinema Rex\, Fribourg
DESCRIPTION:Invitation – Projection du film The Voice of Hind Rajab 🎬 Cher·e membre de Cine 4 Palestine, Nous avons le plaisir de vous convier à une séance unique de notre prochain événement de sensibilisation :Projection du film » The Voice of Hind Rajab «📅 Dimanche 30 novembre 2025 à 14h00 (Reservation ICI) 📍 Cinéma Rex, Boulevard de Pérolles 5a, 1700 Fribourg Ce film bouleversant, mêlant documentaire et fiction, donne voix à Hind Rajab, une enfant de Gaza dont l’appel a ému le monde entier.Il s’inscrit dans notre mission : faire connaître, à travers le cinéma, les voix et les réalités que d’autres tentent de faire taire. Programme de la séance : Accueil du public avant la projection Discussion libre après le film 🎟️ Entrée payante – places limitées, réservation vivement recommandée.👉 Réservation : Cinemotion_Rex Fribourg Billetterie  📲 Suivez-nous sur Instagram :@cinemotion_rex | @cine4palestine Nous comptons vivement sur votre présence et votre soutien : c’est ensemble que nous faisons résonner les voix pour la justice et l’humanité. Bien cordialement,L’équipe de Cine 4 Palestine🌐 www.cine4palestine.ch Bande d\'annonce : Votre navigateur ne supporte pas la lecture vidéo. Regarder la vidéo
URL:https://cine4palestine.ch/eventer/la-voix-de-hind-rajab/
END:VEVENT
END:VCALENDAR
